BEGIN:VCALENDAR
VERSION:2.0
PRODID:-//Arabella Sedona - ECPv6.15.20//NONSGML v1.0//EN
CALSCALE:GREGORIAN
METHOD:PUBLISH
X-ORIGINAL-URL:https://www.arabellahotelsedona.com
X-WR-CALDESC:Events for Arabella Sedona
REFRESH-INTERVAL;VALUE=DURATION:PT1H
X-Robots-Tag:noindex
X-PUBLISHED-TTL:PT1H
BEGIN:VTIMEZONE
TZID:UTC
BEGIN:STANDARD
TZOFFSETFROM:+0000
TZOFFSETTO:+0000
TZNAME:UTC
DTSTART:20240101T000000
END:STANDARD
END:VTIMEZONE
BEGIN:VEVENT
DTSTART;TZID=UTC:20251206T073000
DTEND;TZID=UTC:20251206T080000
DTSTAMP:20260423T121105
CREATED:20250114T204554Z
LAST-MODIFIED:20251216T220909Z
UID:10039648-1765006200-1765008000@www.arabellahotelsedona.com
SUMMARY:Morning Meditation
DESCRIPTION:Join Meredith in our Elvis room for morning reflection & guided meditation featuring breathwork & other modalities.
URL:https://www.arabellahotelsedona.com/event/morning-meditations-3/2025-12-06/
ATTACH;FMTTYPE=image/png:https://www.arabellahotelsedona.com/wp-content/uploads/2025/01/Morning-e1753995270823.png
END:VEVENT
BEGIN:VEVENT
DTSTART;TZID=UTC:20251206T170000
DTEND;TZID=UTC:20251206T210000
DTSTAMP:20260423T121105
CREATED:20250505T170936Z
LAST-MODIFIED:20260331T185442Z
UID:10026545-1765040400-1765054800@www.arabellahotelsedona.com
SUMMARY:Medicinal Massage
DESCRIPTION:Join Jody for Therapeutic Massage featuring a variety of healing modalities including deep tissue\, myofascial release\, cupping & more. Cost: $2 per minute.
URL:https://www.arabellahotelsedona.com/event/medicinal-massage-2/2025-12-06/
ATTACH;FMTTYPE=image/jpeg:https://www.arabellahotelsedona.com/wp-content/uploads/2025/05/Medicinal-Massage-e1748726466512.jpeg
END:VEVENT
BEGIN:VEVENT
DTSTART;TZID=UTC:20251206T180000
DTEND;TZID=UTC:20251206T200000
DTSTAMP:20260423T121105
CREATED:20251203T181416Z
LAST-MODIFIED:20251203T181417Z
UID:10042302-1765044000-1765051200@www.arabellahotelsedona.com
SUMMARY:Live Music W/ JBTwo!
DESCRIPTION:Join us in the Ellsworth Room to enjoy Sedona’s own JBTwo! They play an eclectic mix of classic rock and blues with a couple other genres thrown in to keep it interesting.
URL:https://www.arabellahotelsedona.com/event/live-music-w-jbtwo-3-2/
ATTACH;FMTTYPE=image/jpeg:https://www.arabellahotelsedona.com/wp-content/uploads/2025/06/JBTwo.jpg
END:VEVENT
END:VCALENDAR