BEGIN:VCALENDAR
VERSION:2.0
PRODID:-//Arabella Sedona - ECPv6.15.20//NONSGML v1.0//EN
CALSCALE:GREGORIAN
METHOD:PUBLISH
X-WR-CALNAME:Arabella Sedona
X-ORIGINAL-URL:https://www.arabellahotelsedona.com
X-WR-CALDESC:Events for Arabella Sedona
REFRESH-INTERVAL;VALUE=DURATION:PT1H
X-Robots-Tag:noindex
X-PUBLISHED-TTL:PT1H
BEGIN:VTIMEZONE
TZID:UTC
BEGIN:STANDARD
TZOFFSETFROM:+0000
TZOFFSETTO:+0000
TZNAME:UTC
DTSTART:20240101T000000
END:STANDARD
END:VTIMEZONE
BEGIN:VEVENT
DTSTART;VALUE=DATE:20251231
DTEND;VALUE=DATE:20260101
DTSTAMP:20260423T110639
CREATED:20250505T165721Z
LAST-MODIFIED:20260414T190347Z
UID:10085494-1767139200-1767225599@www.arabellahotelsedona.com
SUMMARY:Scavenger Hunt!
DESCRIPTION:Find the Roadrunners around the property (hint: theres 3)! Take a picture of each one\, bring to the lobby\, and collect your prize! All ages welcome!
URL:https://www.arabellahotelsedona.com/event/scavenger-hunt/2025-12-31/
ATTACH;FMTTYPE=image/jpeg:https://www.arabellahotelsedona.com/wp-content/uploads/2025/05/Roadrunner.jpg
END:VEVENT
BEGIN:VEVENT
DTSTART;TZID=UTC:20251231T073000
DTEND;TZID=UTC:20251231T080000
DTSTAMP:20260423T110639
CREATED:20250114T204554Z
LAST-MODIFIED:20251216T220909Z
UID:10038879-1767166200-1767168000@www.arabellahotelsedona.com
SUMMARY:Morning Meditation
DESCRIPTION:Join Meredith in our Elvis room for morning reflection & guided meditation featuring breathwork & other modalities.
URL:https://www.arabellahotelsedona.com/event/morning-meditations-3/2025-12-31/
ATTACH;FMTTYPE=image/png:https://www.arabellahotelsedona.com/wp-content/uploads/2025/01/Morning-e1753995270823.png
END:VEVENT
BEGIN:VEVENT
DTSTART;TZID=UTC:20251231T170000
DTEND;TZID=UTC:20251231T190000
DTSTAMP:20260423T110639
CREATED:20251203T180938Z
LAST-MODIFIED:20260421T193321Z
UID:10044059-1767200400-1767207600@www.arabellahotelsedona.com
SUMMARY:Live Music W/ Bobby Myhre
DESCRIPTION:Join us in the courtyard gazebo (weather permitting) or our Ellsworth room to enjoy Sedona’s own crooner\, Bobby Myhre! Bobby covers the styles of Frank Sinatra\, Nat King Cole\, Sammy Davis\, Dean Martin\, and more!
URL:https://www.arabellahotelsedona.com/event/live-music-w-bobby-myhre-5-2/2025-12-31/
ATTACH;FMTTYPE=image/jpeg:https://www.arabellahotelsedona.com/wp-content/uploads/2025/06/processed-E8CD76B1-8B7B-45AA-AC85-98266AE05C4F.jpeg
END:VEVENT
BEGIN:VEVENT
DTSTART;TZID=UTC:20251231T200000
DTEND;TZID=UTC:20251231T210000
DTSTAMP:20260423T110639
CREATED:20251230T200239Z
LAST-MODIFIED:20251230T200358Z
UID:10044638-1767211200-1767214800@www.arabellahotelsedona.com
SUMMARY:New Years Eve Bingo Bash!
DESCRIPTION:Come to the Ellsworth Room after Live Music for our New Years Eve Bingo Bash!! There will be prizes and a complimentary champagne toast @ 9pm
URL:https://www.arabellahotelsedona.com/event/new-years-eve-bingo-bash/
END:VEVENT
END:VCALENDAR