BEGIN:VCALENDAR
VERSION:2.0
PRODID:-//Arabella Sedona - ECPv6.15.20//NONSGML v1.0//EN
CALSCALE:GREGORIAN
METHOD:PUBLISH
X-WR-CALNAME:Arabella Sedona
X-ORIGINAL-URL:https://www.arabellahotelsedona.com
X-WR-CALDESC:Events for Arabella Sedona
REFRESH-INTERVAL;VALUE=DURATION:PT1H
X-Robots-Tag:noindex
X-PUBLISHED-TTL:PT1H
BEGIN:VTIMEZONE
TZID:UTC
BEGIN:STANDARD
TZOFFSETFROM:+0000
TZOFFSETTO:+0000
TZNAME:UTC
DTSTART:20240101T000000
END:STANDARD
END:VTIMEZONE
BEGIN:VEVENT
DTSTART;TZID=UTC:20251121T081500
DTEND;TZID=UTC:20251121T091500
DTSTAMP:20260421T081411
CREATED:20250917T221154Z
LAST-MODIFIED:20251121T021750Z
UID:10042629-1763712900-1763716500@www.arabellahotelsedona.com
SUMMARY:Yoga with Linder!
DESCRIPTION:Start your day with serenity.Join Linder for morning yoga in the Ellsworth Room8:15–9:15 AM · $10 per personSign up in the lobby!
URL:https://www.arabellahotelsedona.com/event/yoga-with-linder/2025-11-21/
ATTACH;FMTTYPE=image/png:https://www.arabellahotelsedona.com/wp-content/uploads/2025/09/man-8707406_1280.png
END:VEVENT
BEGIN:VEVENT
DTSTART;TZID=UTC:20251121T073000
DTEND;TZID=UTC:20251121T080000
DTSTAMP:20260421T081411
CREATED:20250114T204554Z
LAST-MODIFIED:20251216T220909Z
UID:10038863-1763710200-1763712000@www.arabellahotelsedona.com
SUMMARY:Morning Meditation
DESCRIPTION:Join Meredith in our Elvis room for morning reflection & guided meditation featuring breathwork & other modalities.
URL:https://www.arabellahotelsedona.com/event/morning-meditations-3/2025-11-21/
ATTACH;FMTTYPE=image/png:https://www.arabellahotelsedona.com/wp-content/uploads/2025/01/Morning-e1753995270823.png
END:VEVENT
BEGIN:VEVENT
DTSTART;TZID=UTC:20251120T170000
DTEND;TZID=UTC:20251120T210000
DTSTAMP:20260421T081411
CREATED:20250505T170936Z
LAST-MODIFIED:20260331T185442Z
UID:10026540-1763658000-1763672400@www.arabellahotelsedona.com
SUMMARY:Medicinal Massage
DESCRIPTION:Join Jody for Therapeutic Massage featuring a variety of healing modalities including deep tissue\, myofascial release\, cupping & more. Cost: $2 per minute.
URL:https://www.arabellahotelsedona.com/event/medicinal-massage-2/2025-11-20/
ATTACH;FMTTYPE=image/jpeg:https://www.arabellahotelsedona.com/wp-content/uploads/2025/05/Medicinal-Massage-e1748726466512.jpeg
END:VEVENT
BEGIN:VEVENT
DTSTART;TZID=UTC:20251120T073000
DTEND;TZID=UTC:20251120T080000
DTSTAMP:20260421T081411
CREATED:20250114T204554Z
LAST-MODIFIED:20251216T220909Z
UID:10038862-1763623800-1763625600@www.arabellahotelsedona.com
SUMMARY:Morning Meditation
DESCRIPTION:Join Meredith in our Elvis room for morning reflection & guided meditation featuring breathwork & other modalities.
URL:https://www.arabellahotelsedona.com/event/morning-meditations-3/2025-11-20/
ATTACH;FMTTYPE=image/png:https://www.arabellahotelsedona.com/wp-content/uploads/2025/01/Morning-e1753995270823.png
END:VEVENT
BEGIN:VEVENT
DTSTART;TZID=UTC:20251119T180000
DTEND;TZID=UTC:20251119T200000
DTSTAMP:20260421T081411
CREATED:20260129T212632Z
LAST-MODIFIED:20260408T212811Z
UID:10045342-1763575200-1763582400@www.arabellahotelsedona.com
SUMMARY:Live Music w/ Ed Cooper!
DESCRIPTION:Join us in the courtyard gazebo to enjoy the music of Ed Cooper\, he performs both electric and acoustic music all around the Verde Valley typically covering classic rock from all different eras! 
URL:https://www.arabellahotelsedona.com/event/live-music-w-ed-cooper-11/2025-11-19/
ATTACH;FMTTYPE=image/jpeg:https://www.arabellahotelsedona.com/wp-content/uploads/2025/06/ed-e1749157860641.jpg
END:VEVENT
BEGIN:VEVENT
DTSTART;TZID=UTC:20251119T180000
DTEND;TZID=UTC:20251119T200000
DTSTAMP:20260421T081411
CREATED:20260122T223041Z
LAST-MODIFIED:20260130T205915Z
UID:10045323-1763575200-1763582400@www.arabellahotelsedona.com
SUMMARY:Live Music w/ Ed Cooper!
DESCRIPTION:Join us in the courtyard gazebo to enjoy the music of Ed Cooper\, Ed Cooper performs both electric and acoustic music all around the Verde Valley typically covering classic rock from all different eras! 
URL:https://www.arabellahotelsedona.com/event/live-music-w-ed-cooper-10/2025-11-19/
ATTACH;FMTTYPE=image/jpeg:https://www.arabellahotelsedona.com/wp-content/uploads/2025/06/ed-e1749157860641.jpg
END:VEVENT
BEGIN:VEVENT
DTSTART;TZID=UTC:20251119T180000
DTEND;TZID=UTC:20251119T200000
DTSTAMP:20260421T081411
CREATED:20260122T222919Z
LAST-MODIFIED:20260122T222919Z
UID:10045298-1763575200-1763582400@www.arabellahotelsedona.com
SUMMARY:Live Music w/ Ed Cooper!
DESCRIPTION:Join us in the courtyard gazebo to enjoy the music of Ed Cooper\, Ed Cooper performs both electric and acoustic music all around the Verde Valley typically covering classic rock from all different eras! 
URL:https://www.arabellahotelsedona.com/event/live-music-w-ed-cooper-9/2025-11-19/
ATTACH;FMTTYPE=image/jpeg:https://www.arabellahotelsedona.com/wp-content/uploads/2025/06/ed-e1749157860641.jpg
END:VEVENT
BEGIN:VEVENT
DTSTART;TZID=UTC:20251119T180000
DTEND;TZID=UTC:20251119T200000
DTSTAMP:20260421T081411
CREATED:20260122T222736Z
LAST-MODIFIED:20260122T222838Z
UID:10045288-1763575200-1763582400@www.arabellahotelsedona.com
SUMMARY:Live Music w/ Ed Cooper!
DESCRIPTION:Join us in the courtyard gazebo to enjoy the music of Ed Cooper\, Ed Cooper performs both electric and acoustic music all around the Verde Valley typically covering classic rock from all different eras! 
URL:https://www.arabellahotelsedona.com/event/live-music-w-ed-cooper-8/2025-11-19/
ATTACH;FMTTYPE=image/jpeg:https://www.arabellahotelsedona.com/wp-content/uploads/2025/06/ed-e1749157860641.jpg
END:VEVENT
BEGIN:VEVENT
DTSTART;TZID=UTC:20251119T180000
DTEND;TZID=UTC:20251119T200000
DTSTAMP:20260421T081411
CREATED:20260122T222543Z
LAST-MODIFIED:20260122T222543Z
UID:10045279-1763575200-1763582400@www.arabellahotelsedona.com
SUMMARY:Live Music w/ Ed Cooper!
DESCRIPTION:Join us in the courtyard gazebo to enjoy the music of Ed Cooper\, Ed Cooper performs both electric and acoustic music all around the Verde Valley typically covering classic rock from all different eras! 
URL:https://www.arabellahotelsedona.com/event/live-music-w-ed-cooper-7/2025-11-19/
ATTACH;FMTTYPE=image/jpeg:https://www.arabellahotelsedona.com/wp-content/uploads/2025/06/ed-e1749157860641.jpg
END:VEVENT
BEGIN:VEVENT
DTSTART;TZID=UTC:20251119T180000
DTEND;TZID=UTC:20251119T200000
DTSTAMP:20260421T081411
CREATED:20260102T213033Z
LAST-MODIFIED:20260122T223242Z
UID:10044666-1763575200-1763582400@www.arabellahotelsedona.com
SUMMARY:Live Music w/ Ed Cooper!
DESCRIPTION:Join us in the courtyard gazebo to enjoy the music of Ed Cooper\, Ed Cooper performs both electric and acoustic music all around the Verde Valley typically covering classic rock from all different eras! 
URL:https://www.arabellahotelsedona.com/event/live-music-w-ed-cooper-6/2025-11-19/
ATTACH;FMTTYPE=image/jpeg:https://www.arabellahotelsedona.com/wp-content/uploads/2025/06/ed-e1749157860641.jpg
END:VEVENT
BEGIN:VEVENT
DTSTART;TZID=UTC:20251119T180000
DTEND;TZID=UTC:20251119T200000
DTSTAMP:20260421T081411
CREATED:20250821T021559Z
LAST-MODIFIED:20251105T203416Z
UID:10042305-1763575200-1763582400@www.arabellahotelsedona.com
SUMMARY:Live Music w/ Ed Cooper!
DESCRIPTION:Join us in the courtyard gazebo to enjoy the music of Ed Cooper\, Ed Cooper performs both electric and acoustic music all around the Verde Valley typically covering classic rock from all different eras! 
URL:https://www.arabellahotelsedona.com/event/live-music-w-ed-cooper-5/2025-11-19/
ATTACH;FMTTYPE=image/jpeg:https://www.arabellahotelsedona.com/wp-content/uploads/2025/06/ed-e1749157860641.jpg
END:VEVENT
BEGIN:VEVENT
DTSTART;TZID=UTC:20251119T073000
DTEND;TZID=UTC:20251119T080000
DTSTAMP:20260421T081411
CREATED:20250114T204554Z
LAST-MODIFIED:20251216T220909Z
UID:10038861-1763537400-1763539200@www.arabellahotelsedona.com
SUMMARY:Morning Meditation
DESCRIPTION:Join Meredith in our Elvis room for morning reflection & guided meditation featuring breathwork & other modalities.
URL:https://www.arabellahotelsedona.com/event/morning-meditations-3/2025-11-19/
ATTACH;FMTTYPE=image/png:https://www.arabellahotelsedona.com/wp-content/uploads/2025/01/Morning-e1753995270823.png
END:VEVENT
BEGIN:VEVENT
DTSTART;VALUE=DATE:20251119
DTEND;VALUE=DATE:20251120
DTSTAMP:20260421T081411
CREATED:20250505T165721Z
LAST-MODIFIED:20260414T190347Z
UID:10085488-1763510400-1763596799@www.arabellahotelsedona.com
SUMMARY:Scavenger Hunt!
DESCRIPTION:Find the Roadrunners around the property (hint: theres 3)! Take a picture of each one\, bring to the lobby\, and collect your prize! All ages welcome!
URL:https://www.arabellahotelsedona.com/event/scavenger-hunt/2025-11-19/
ATTACH;FMTTYPE=image/jpeg:https://www.arabellahotelsedona.com/wp-content/uploads/2025/05/Roadrunner.jpg
END:VEVENT
BEGIN:VEVENT
DTSTART;TZID=UTC:20251118T190000
DTEND;TZID=UTC:20251118T200000
DTSTAMP:20260421T081411
CREATED:20250523T184109Z
LAST-MODIFIED:20260310T184746Z
UID:10028900-1763492400-1763496000@www.arabellahotelsedona.com
SUMMARY:Meet your Guardian Angels
DESCRIPTION:Did you know that everyone is born with Guardian Angels? Meet yours in this spectacular workshop! \n\n\n  \n\n\nIncludes an Angel card reading!
URL:https://www.arabellahotelsedona.com/event/meet-your-guardian-angels-2/2025-11-18/
ATTACH;FMTTYPE=image/png:https://www.arabellahotelsedona.com/wp-content/uploads/2025/05/lqfp3l2z.png
END:VEVENT
BEGIN:VEVENT
DTSTART;TZID=UTC:20251118T173000
DTEND;TZID=UTC:20251118T183000
DTSTAMP:20260421T081411
CREATED:20251003T230721Z
LAST-MODIFIED:20251028T233317Z
UID:10042319-1763487000-1763490600@www.arabellahotelsedona.com
SUMMARY:Energy for Abundance Workshop
DESCRIPTION:Step into your power to choose abundance in all forms—health\, happiness\, connection\, and wealth. This session begins with a mantra card to set your energetic tone\, followed by guided meditation and journaling to gently release what’s blocking your abundance. We’ll call in the freedom and energy of infinite choice\, and I’ll help clear one limiting energy from your field. The session closes with a color card to anchor your new state of abundance.
URL:https://www.arabellahotelsedona.com/event/energy-for-abundance-workshop/2025-11-18/
END:VEVENT
BEGIN:VEVENT
DTSTART;VALUE=DATE:20251118
DTEND;VALUE=DATE:20251119
DTSTAMP:20260421T081411
CREATED:20250505T165721Z
LAST-MODIFIED:20260414T190347Z
UID:10026251-1763424000-1763510399@www.arabellahotelsedona.com
SUMMARY:Scavenger Hunt!
DESCRIPTION:Find the Roadrunners around the property (hint: theres 3)! Take a picture of each one\, bring to the lobby\, and collect your prize! All ages welcome!
URL:https://www.arabellahotelsedona.com/event/scavenger-hunt/2025-11-18/
ATTACH;FMTTYPE=image/jpeg:https://www.arabellahotelsedona.com/wp-content/uploads/2025/05/Roadrunner.jpg
END:VEVENT
BEGIN:VEVENT
DTSTART;TZID=UTC:20251117T140000
DTEND;TZID=UTC:20251117T180000
DTSTAMP:20260421T081411
CREATED:20250114T212154Z
LAST-MODIFIED:20260328T205848Z
UID:10019595-1763388000-1763402400@www.arabellahotelsedona.com
SUMMARY:Game Night
DESCRIPTION:Head out to the courtyard to play our collection of giant lawn games and Cornhole.
URL:https://www.arabellahotelsedona.com/event/game-night-3/2025-11-17/
ATTACH;FMTTYPE=image/jpeg:https://www.arabellahotelsedona.com/wp-content/uploads/2024/06/pexels-cornhole-scaled.jpg
END:VEVENT
BEGIN:VEVENT
DTSTART;VALUE=DATE:20251117
DTEND;VALUE=DATE:20251118
DTSTAMP:20260421T081411
CREATED:20240621T161310Z
LAST-MODIFIED:20250523T222832Z
UID:10029984-1763337600-1763423999@www.arabellahotelsedona.com
SUMMARY:Going on a Hike?
DESCRIPTION:Come to the front desk and snap a picture with our polaroid camera! Post to your social media using #myarabellaadventure and receive a free red rock parking pass!
URL:https://www.arabellahotelsedona.com/event/snap-a-selfie/2025-11-17/
ATTACH;FMTTYPE=image/jpeg:https://www.arabellahotelsedona.com/wp-content/uploads/2024/06/pexels-girls-scaled.jpg
END:VEVENT
BEGIN:VEVENT
DTSTART;TZID=UTC:20251116T193000
DTEND;TZID=UTC:20251116T210000
DTSTAMP:20260421T081411
CREATED:20251023T224329Z
LAST-MODIFIED:20251023T224914Z
UID:10042311-1763321400-1763326800@www.arabellahotelsedona.com
SUMMARY:Movie Night!
DESCRIPTION:Join us in the guest lounge for some relaxation\, popcorn\, and enjoy “Elio.”
URL:https://www.arabellahotelsedona.com/event/movie-night-12/
ATTACH;FMTTYPE=image/jpeg:https://www.arabellahotelsedona.com/wp-content/uploads/2025/10/images.jpg
END:VEVENT
BEGIN:VEVENT
DTSTART;TZID=UTC:20251116T140000
DTEND;TZID=UTC:20251116T180000
DTSTAMP:20260421T081411
CREATED:20250114T212154Z
LAST-MODIFIED:20260328T205848Z
UID:10019594-1763301600-1763316000@www.arabellahotelsedona.com
SUMMARY:Game Night
DESCRIPTION:Head out to the courtyard to play our collection of giant lawn games and Cornhole.
URL:https://www.arabellahotelsedona.com/event/game-night-3/2025-11-16/
ATTACH;FMTTYPE=image/jpeg:https://www.arabellahotelsedona.com/wp-content/uploads/2024/06/pexels-cornhole-scaled.jpg
END:VEVENT
BEGIN:VEVENT
DTSTART;VALUE=DATE:20251116
DTEND;VALUE=DATE:20251117
DTSTAMP:20260421T081411
CREATED:20240621T161310Z
LAST-MODIFIED:20250523T222832Z
UID:10028120-1763251200-1763337599@www.arabellahotelsedona.com
SUMMARY:Going on a Hike?
DESCRIPTION:Come to the front desk and snap a picture with our polaroid camera! Post to your social media using #myarabellaadventure and receive a free red rock parking pass!
URL:https://www.arabellahotelsedona.com/event/snap-a-selfie/2025-11-16/
ATTACH;FMTTYPE=image/jpeg:https://www.arabellahotelsedona.com/wp-content/uploads/2024/06/pexels-girls-scaled.jpg
END:VEVENT
BEGIN:VEVENT
DTSTART;TZID=UTC:20251115T180000
DTEND;TZID=UTC:20251115T200000
DTSTAMP:20260421T081411
CREATED:20250725T231010Z
LAST-MODIFIED:20251122T213945Z
UID:10042300-1763229600-1763236800@www.arabellahotelsedona.com
SUMMARY:Live Music W/ JBTwo!
DESCRIPTION:Join us in the Ellsworth Room to enjoy Sedona’s own JBTwo! They play an eclectic mix of classic rock and blues with a couple other genres thrown in to keep it interesting.
URL:https://www.arabellahotelsedona.com/event/live-music-w-jbtwo-3/2025-11-15/
ATTACH;FMTTYPE=image/jpeg:https://www.arabellahotelsedona.com/wp-content/uploads/2025/06/JBTwo.jpg
END:VEVENT
BEGIN:VEVENT
DTSTART;TZID=UTC:20251115T170000
DTEND;TZID=UTC:20251115T210000
DTSTAMP:20260421T081411
CREATED:20250505T170936Z
LAST-MODIFIED:20260331T185442Z
UID:10026539-1763226000-1763240400@www.arabellahotelsedona.com
SUMMARY:Medicinal Massage
DESCRIPTION:Join Jody for Therapeutic Massage featuring a variety of healing modalities including deep tissue\, myofascial release\, cupping & more. Cost: $2 per minute.
URL:https://www.arabellahotelsedona.com/event/medicinal-massage-2/2025-11-15/
ATTACH;FMTTYPE=image/jpeg:https://www.arabellahotelsedona.com/wp-content/uploads/2025/05/Medicinal-Massage-e1748726466512.jpeg
END:VEVENT
BEGIN:VEVENT
DTSTART;TZID=UTC:20251115T073000
DTEND;TZID=UTC:20251115T080000
DTSTAMP:20260421T081411
CREATED:20250114T204554Z
LAST-MODIFIED:20251216T220909Z
UID:10042309-1763191800-1763193600@www.arabellahotelsedona.com
SUMMARY:Morning Meditation
DESCRIPTION:Join Meredith in our Elvis room for morning reflection & guided meditation featuring breathwork & other modalities.
URL:https://www.arabellahotelsedona.com/event/morning-meditations-3/2025-11-15/
ATTACH;FMTTYPE=image/png:https://www.arabellahotelsedona.com/wp-content/uploads/2025/01/Morning-e1753995270823.png
END:VEVENT
BEGIN:VEVENT
DTSTART;TZID=UTC:20251114T180000
DTEND;TZID=UTC:20251114T200000
DTSTAMP:20260421T081411
CREATED:20250926T212502Z
LAST-MODIFIED:20251023T212049Z
UID:10042297-1763143200-1763150400@www.arabellahotelsedona.com
SUMMARY:Live Music W/ Lyndsay Cross
DESCRIPTION:Join us in the courtyard gazebo to rock with Verde Valley local\, Lyndsay Cross mixes the rock and roll influences she grew up on–(Janis Joplin\, Robert Plant\, Grace Slick\, and Stevie Nicks just to name just a few) with her classically trained soprano background to bring you songs infused with her smooth vocals\, heart\, and soul.
URL:https://www.arabellahotelsedona.com/event/live-music-w-lyndsay-cross-2-2/2025-11-14/
END:VEVENT
BEGIN:VEVENT
DTSTART;TZID=UTC:20251114T081500
DTEND;TZID=UTC:20251114T091500
DTSTAMP:20260421T081411
CREATED:20250917T221154Z
LAST-MODIFIED:20251121T021750Z
UID:10042277-1763108100-1763111700@www.arabellahotelsedona.com
SUMMARY:Yoga with Linder!
DESCRIPTION:Start your day with serenity.Join Linder for morning yoga in the Ellsworth Room8:15–9:15 AM · $10 per personSign up in the lobby!
URL:https://www.arabellahotelsedona.com/event/yoga-with-linder/2025-11-14/
ATTACH;FMTTYPE=image/png:https://www.arabellahotelsedona.com/wp-content/uploads/2025/09/man-8707406_1280.png
END:VEVENT
BEGIN:VEVENT
DTSTART;TZID=UTC:20251114T073000
DTEND;TZID=UTC:20251114T080000
DTSTAMP:20260421T081411
CREATED:20250114T204554Z
LAST-MODIFIED:20251216T220909Z
UID:10042308-1763105400-1763107200@www.arabellahotelsedona.com
SUMMARY:Morning Meditation
DESCRIPTION:Join Meredith in our Elvis room for morning reflection & guided meditation featuring breathwork & other modalities.
URL:https://www.arabellahotelsedona.com/event/morning-meditations-3/2025-11-14/
ATTACH;FMTTYPE=image/png:https://www.arabellahotelsedona.com/wp-content/uploads/2025/01/Morning-e1753995270823.png
END:VEVENT
BEGIN:VEVENT
DTSTART;TZID=UTC:20251113T170000
DTEND;TZID=UTC:20251113T210000
DTSTAMP:20260421T081411
CREATED:20250505T170936Z
LAST-MODIFIED:20260331T185442Z
UID:10026538-1763053200-1763067600@www.arabellahotelsedona.com
SUMMARY:Medicinal Massage
DESCRIPTION:Join Jody for Therapeutic Massage featuring a variety of healing modalities including deep tissue\, myofascial release\, cupping & more. Cost: $2 per minute.
URL:https://www.arabellahotelsedona.com/event/medicinal-massage-2/2025-11-13/
ATTACH;FMTTYPE=image/jpeg:https://www.arabellahotelsedona.com/wp-content/uploads/2025/05/Medicinal-Massage-e1748726466512.jpeg
END:VEVENT
BEGIN:VEVENT
DTSTART;TZID=UTC:20251113T073000
DTEND;TZID=UTC:20251113T080000
DTSTAMP:20260421T081411
CREATED:20250114T204554Z
LAST-MODIFIED:20251216T220909Z
UID:10042307-1763019000-1763020800@www.arabellahotelsedona.com
SUMMARY:Morning Meditation
DESCRIPTION:Join Meredith in our Elvis room for morning reflection & guided meditation featuring breathwork & other modalities.
URL:https://www.arabellahotelsedona.com/event/morning-meditations-3/2025-11-13/
ATTACH;FMTTYPE=image/png:https://www.arabellahotelsedona.com/wp-content/uploads/2025/01/Morning-e1753995270823.png
END:VEVENT
BEGIN:VEVENT
DTSTART;TZID=UTC:20251112T180000
DTEND;TZID=UTC:20251112T200000
DTSTAMP:20260421T081411
CREATED:20251011T032703Z
LAST-MODIFIED:20260324T192309Z
UID:10042303-1762970400-1762977600@www.arabellahotelsedona.com
SUMMARY:Live Music W/ Bobby Myhre
DESCRIPTION:Join us in the courtyard gazebo to enjoy Sedona’s own crooner\, Bobby Myhre! Bobby covers the styles of Frank Sinatra\, Nat King Cole\, Sammy Davis\, Dean Martin\, and more!
URL:https://www.arabellahotelsedona.com/event/live-music-w-bobby-myhre-5/2025-11-12/
ATTACH;FMTTYPE=image/jpeg:https://www.arabellahotelsedona.com/wp-content/uploads/2025/06/processed-E8CD76B1-8B7B-45AA-AC85-98266AE05C4F.jpeg
END:VEVENT
END:VCALENDAR