BEGIN:VCALENDAR
VERSION:2.0
PRODID:-//Arabella Sedona - ECPv6.15.20//NONSGML v1.0//EN
CALSCALE:GREGORIAN
METHOD:PUBLISH
X-WR-CALNAME:Arabella Sedona
X-ORIGINAL-URL:https://www.arabellahotelsedona.com
X-WR-CALDESC:Events for Arabella Sedona
REFRESH-INTERVAL;VALUE=DURATION:PT1H
X-Robots-Tag:noindex
X-PUBLISHED-TTL:PT1H
BEGIN:VTIMEZONE
TZID:UTC
BEGIN:STANDARD
TZOFFSETFROM:+0000
TZOFFSETTO:+0000
TZNAME:UTC
DTSTART:20230101T000000
END:STANDARD
END:VTIMEZONE
BEGIN:VEVENT
DTSTART;TZID=UTC:20240815T173000
DTEND;TZID=UTC:20240815T193000
DTSTAMP:20260421T082506
CREATED:20240717T214310Z
LAST-MODIFIED:20240717T214311Z
UID:10003405-1723743000-1723750200@www.arabellahotelsedona.com
SUMMARY:Astrology Readings
DESCRIPTION:Karen Walker offers 20 minute readings for $40 with the option for a full Astrology reading. Located in the guest lounge.
URL:https://www.arabellahotelsedona.com/event/astrology-readings-2/2024-08-15/
ATTACH;FMTTYPE=image/jpeg:https://www.arabellahotelsedona.com/wp-content/uploads/2024/06/pexels-astrology-scaled.jpg
END:VEVENT
BEGIN:VEVENT
DTSTART;TZID=UTC:20240822T173000
DTEND;TZID=UTC:20240822T193000
DTSTAMP:20260421T082506
CREATED:20240717T214310Z
LAST-MODIFIED:20240717T214311Z
UID:10003406-1724347800-1724355000@www.arabellahotelsedona.com
SUMMARY:Astrology Readings
DESCRIPTION:Karen Walker offers 20 minute readings for $40 with the option for a full Astrology reading. Located in the guest lounge.
URL:https://www.arabellahotelsedona.com/event/astrology-readings-2/2024-08-22/
ATTACH;FMTTYPE=image/jpeg:https://www.arabellahotelsedona.com/wp-content/uploads/2024/06/pexels-astrology-scaled.jpg
END:VEVENT
BEGIN:VEVENT
DTSTART;TZID=UTC:20240829T173000
DTEND;TZID=UTC:20240829T193000
DTSTAMP:20260421T082506
CREATED:20240717T214310Z
LAST-MODIFIED:20240717T214311Z
UID:10003407-1724952600-1724959800@www.arabellahotelsedona.com
SUMMARY:Astrology Readings
DESCRIPTION:Karen Walker offers 20 minute readings for $40 with the option for a full Astrology reading. Located in the guest lounge.
URL:https://www.arabellahotelsedona.com/event/astrology-readings-2/2024-08-29/
ATTACH;FMTTYPE=image/jpeg:https://www.arabellahotelsedona.com/wp-content/uploads/2024/06/pexels-astrology-scaled.jpg
END:VEVENT
BEGIN:VEVENT
DTSTART;TZID=UTC:20240905T173000
DTEND;TZID=UTC:20240905T193000
DTSTAMP:20260421T082506
CREATED:20240717T214310Z
LAST-MODIFIED:20240717T214311Z
UID:10003408-1725557400-1725564600@www.arabellahotelsedona.com
SUMMARY:Astrology Readings
DESCRIPTION:Karen Walker offers 20 minute readings for $40 with the option for a full Astrology reading. Located in the guest lounge.
URL:https://www.arabellahotelsedona.com/event/astrology-readings-2/2024-09-05/
ATTACH;FMTTYPE=image/jpeg:https://www.arabellahotelsedona.com/wp-content/uploads/2024/06/pexels-astrology-scaled.jpg
END:VEVENT
BEGIN:VEVENT
DTSTART;TZID=UTC:20240912T173000
DTEND;TZID=UTC:20240912T193000
DTSTAMP:20260421T082506
CREATED:20240717T214310Z
LAST-MODIFIED:20240717T214311Z
UID:10003409-1726162200-1726169400@www.arabellahotelsedona.com
SUMMARY:Astrology Readings
DESCRIPTION:Karen Walker offers 20 minute readings for $40 with the option for a full Astrology reading. Located in the guest lounge.
URL:https://www.arabellahotelsedona.com/event/astrology-readings-2/2024-09-12/
ATTACH;FMTTYPE=image/jpeg:https://www.arabellahotelsedona.com/wp-content/uploads/2024/06/pexels-astrology-scaled.jpg
END:VEVENT
BEGIN:VEVENT
DTSTART;TZID=UTC:20240919T173000
DTEND;TZID=UTC:20240919T193000
DTSTAMP:20260421T082506
CREATED:20240717T214310Z
LAST-MODIFIED:20240717T214311Z
UID:10003410-1726767000-1726774200@www.arabellahotelsedona.com
SUMMARY:Astrology Readings
DESCRIPTION:Karen Walker offers 20 minute readings for $40 with the option for a full Astrology reading. Located in the guest lounge.
URL:https://www.arabellahotelsedona.com/event/astrology-readings-2/2024-09-19/
ATTACH;FMTTYPE=image/jpeg:https://www.arabellahotelsedona.com/wp-content/uploads/2024/06/pexels-astrology-scaled.jpg
END:VEVENT
BEGIN:VEVENT
DTSTART;TZID=UTC:20240926T173000
DTEND;TZID=UTC:20240926T193000
DTSTAMP:20260421T082506
CREATED:20240717T214310Z
LAST-MODIFIED:20240717T214311Z
UID:10003411-1727371800-1727379000@www.arabellahotelsedona.com
SUMMARY:Astrology Readings
DESCRIPTION:Karen Walker offers 20 minute readings for $40 with the option for a full Astrology reading. Located in the guest lounge.
URL:https://www.arabellahotelsedona.com/event/astrology-readings-2/2024-09-26/
ATTACH;FMTTYPE=image/jpeg:https://www.arabellahotelsedona.com/wp-content/uploads/2024/06/pexels-astrology-scaled.jpg
END:VEVENT
BEGIN:VEVENT
DTSTART;TZID=UTC:20241003T173000
DTEND;TZID=UTC:20241003T193000
DTSTAMP:20260421T082506
CREATED:20240717T214310Z
LAST-MODIFIED:20240717T214311Z
UID:10003412-1727976600-1727983800@www.arabellahotelsedona.com
SUMMARY:Astrology Readings
DESCRIPTION:Karen Walker offers 20 minute readings for $40 with the option for a full Astrology reading. Located in the guest lounge.
URL:https://www.arabellahotelsedona.com/event/astrology-readings-2/2024-10-03/
ATTACH;FMTTYPE=image/jpeg:https://www.arabellahotelsedona.com/wp-content/uploads/2024/06/pexels-astrology-scaled.jpg
END:VEVENT
BEGIN:VEVENT
DTSTART;TZID=UTC:20250116T073000
DTEND;TZID=UTC:20250116T080000
DTSTAMP:20260421T082506
CREATED:20250114T204554Z
LAST-MODIFIED:20251216T220909Z
UID:10038732-1737012600-1737014400@www.arabellahotelsedona.com
SUMMARY:Morning Meditation
DESCRIPTION:Join Meredith in our Elvis room for morning reflection & guided meditation featuring breathwork & other modalities.
URL:https://www.arabellahotelsedona.com/event/morning-meditations-3/2025-01-16/
ATTACH;FMTTYPE=image/png:https://www.arabellahotelsedona.com/wp-content/uploads/2025/01/Morning-e1753995270823.png
END:VEVENT
BEGIN:VEVENT
DTSTART;TZID=UTC:20250116T170000
DTEND;TZID=UTC:20250116T210000
DTSTAMP:20260421T082506
CREATED:20240621T163428Z
LAST-MODIFIED:20260324T200625Z
UID:10016134-1737046800-1737061200@www.arabellahotelsedona.com
SUMMARY:Medicinal Massage
DESCRIPTION:Join Jody for Therapeutic Massage featuring a variety of healing modalities including deep tissue\, myofascial release\, cupping & more. Cost: $2 per minute.
URL:https://www.arabellahotelsedona.com/event/medicinal-massage/2025-01-16/
ATTACH;FMTTYPE=image/jpeg:https://www.arabellahotelsedona.com/wp-content/uploads/2024/06/pexels-massage2-scaled.jpg
END:VEVENT
BEGIN:VEVENT
DTSTART;TZID=UTC:20250117T073000
DTEND;TZID=UTC:20250117T080000
DTSTAMP:20260421T082506
CREATED:20250114T204554Z
LAST-MODIFIED:20251216T220909Z
UID:10038733-1737099000-1737100800@www.arabellahotelsedona.com
SUMMARY:Morning Meditation
DESCRIPTION:Join Meredith in our Elvis room for morning reflection & guided meditation featuring breathwork & other modalities.
URL:https://www.arabellahotelsedona.com/event/morning-meditations-3/2025-01-17/
ATTACH;FMTTYPE=image/png:https://www.arabellahotelsedona.com/wp-content/uploads/2025/01/Morning-e1753995270823.png
END:VEVENT
BEGIN:VEVENT
DTSTART;TZID=UTC:20250117T170000
DTEND;TZID=UTC:20250117T210000
DTSTAMP:20260421T082506
CREATED:20240621T163428Z
LAST-MODIFIED:20260324T200625Z
UID:10016135-1737133200-1737147600@www.arabellahotelsedona.com
SUMMARY:Medicinal Massage
DESCRIPTION:Join Jody for Therapeutic Massage featuring a variety of healing modalities including deep tissue\, myofascial release\, cupping & more. Cost: $2 per minute.
URL:https://www.arabellahotelsedona.com/event/medicinal-massage/2025-01-17/
ATTACH;FMTTYPE=image/jpeg:https://www.arabellahotelsedona.com/wp-content/uploads/2024/06/pexels-massage2-scaled.jpg
END:VEVENT
BEGIN:VEVENT
DTSTART;TZID=UTC:20250118T073000
DTEND;TZID=UTC:20250118T080000
DTSTAMP:20260421T082506
CREATED:20250114T204554Z
LAST-MODIFIED:20251216T220909Z
UID:10039603-1737185400-1737187200@www.arabellahotelsedona.com
SUMMARY:Morning Meditation
DESCRIPTION:Join Meredith in our Elvis room for morning reflection & guided meditation featuring breathwork & other modalities.
URL:https://www.arabellahotelsedona.com/event/morning-meditations-3/2025-01-18/
ATTACH;FMTTYPE=image/png:https://www.arabellahotelsedona.com/wp-content/uploads/2025/01/Morning-e1753995270823.png
END:VEVENT
BEGIN:VEVENT
DTSTART;TZID=UTC:20250122T073000
DTEND;TZID=UTC:20250122T080000
DTSTAMP:20260421T082506
CREATED:20250114T204554Z
LAST-MODIFIED:20251216T220909Z
UID:10038734-1737531000-1737532800@www.arabellahotelsedona.com
SUMMARY:Morning Meditation
DESCRIPTION:Join Meredith in our Elvis room for morning reflection & guided meditation featuring breathwork & other modalities.
URL:https://www.arabellahotelsedona.com/event/morning-meditations-3/2025-01-22/
ATTACH;FMTTYPE=image/png:https://www.arabellahotelsedona.com/wp-content/uploads/2025/01/Morning-e1753995270823.png
END:VEVENT
BEGIN:VEVENT
DTSTART;TZID=UTC:20250123T073000
DTEND;TZID=UTC:20250123T080000
DTSTAMP:20260421T082506
CREATED:20250114T204554Z
LAST-MODIFIED:20251216T220909Z
UID:10038735-1737617400-1737619200@www.arabellahotelsedona.com
SUMMARY:Morning Meditation
DESCRIPTION:Join Meredith in our Elvis room for morning reflection & guided meditation featuring breathwork & other modalities.
URL:https://www.arabellahotelsedona.com/event/morning-meditations-3/2025-01-23/
ATTACH;FMTTYPE=image/png:https://www.arabellahotelsedona.com/wp-content/uploads/2025/01/Morning-e1753995270823.png
END:VEVENT
BEGIN:VEVENT
DTSTART;TZID=UTC:20250124T073000
DTEND;TZID=UTC:20250124T080000
DTSTAMP:20260421T082506
CREATED:20250114T204554Z
LAST-MODIFIED:20251216T220909Z
UID:10038736-1737703800-1737705600@www.arabellahotelsedona.com
SUMMARY:Morning Meditation
DESCRIPTION:Join Meredith in our Elvis room for morning reflection & guided meditation featuring breathwork & other modalities.
URL:https://www.arabellahotelsedona.com/event/morning-meditations-3/2025-01-24/
ATTACH;FMTTYPE=image/png:https://www.arabellahotelsedona.com/wp-content/uploads/2025/01/Morning-e1753995270823.png
END:VEVENT
BEGIN:VEVENT
DTSTART;TZID=UTC:20250124T170000
DTEND;TZID=UTC:20250124T210000
DTSTAMP:20260421T082506
CREATED:20240621T163428Z
LAST-MODIFIED:20260324T200625Z
UID:10016138-1737738000-1737752400@www.arabellahotelsedona.com
SUMMARY:Medicinal Massage
DESCRIPTION:Join Jody for Therapeutic Massage featuring a variety of healing modalities including deep tissue\, myofascial release\, cupping & more. Cost: $2 per minute.
URL:https://www.arabellahotelsedona.com/event/medicinal-massage/2025-01-24/
ATTACH;FMTTYPE=image/jpeg:https://www.arabellahotelsedona.com/wp-content/uploads/2024/06/pexels-massage2-scaled.jpg
END:VEVENT
BEGIN:VEVENT
DTSTART;TZID=UTC:20250125T073000
DTEND;TZID=UTC:20250125T080000
DTSTAMP:20260421T082506
CREATED:20250114T204554Z
LAST-MODIFIED:20251216T220909Z
UID:10039604-1737790200-1737792000@www.arabellahotelsedona.com
SUMMARY:Morning Meditation
DESCRIPTION:Join Meredith in our Elvis room for morning reflection & guided meditation featuring breathwork & other modalities.
URL:https://www.arabellahotelsedona.com/event/morning-meditations-3/2025-01-25/
ATTACH;FMTTYPE=image/png:https://www.arabellahotelsedona.com/wp-content/uploads/2025/01/Morning-e1753995270823.png
END:VEVENT
BEGIN:VEVENT
DTSTART;TZID=UTC:20250126T140000
DTEND;TZID=UTC:20250126T180000
DTSTAMP:20260421T082506
CREATED:20250114T212154Z
LAST-MODIFIED:20260328T205848Z
UID:10019510-1737900000-1737914400@www.arabellahotelsedona.com
SUMMARY:Game Night
DESCRIPTION:Head out to the courtyard to play our collection of giant lawn games and Cornhole.
URL:https://www.arabellahotelsedona.com/event/game-night-3/2025-01-26/
ATTACH;FMTTYPE=image/jpeg:https://www.arabellahotelsedona.com/wp-content/uploads/2024/06/pexels-cornhole-scaled.jpg
END:VEVENT
BEGIN:VEVENT
DTSTART;TZID=UTC:20250127T140000
DTEND;TZID=UTC:20250127T180000
DTSTAMP:20260421T082506
CREATED:20250114T212154Z
LAST-MODIFIED:20260328T205848Z
UID:10019511-1737986400-1738000800@www.arabellahotelsedona.com
SUMMARY:Game Night
DESCRIPTION:Head out to the courtyard to play our collection of giant lawn games and Cornhole.
URL:https://www.arabellahotelsedona.com/event/game-night-3/2025-01-27/
ATTACH;FMTTYPE=image/jpeg:https://www.arabellahotelsedona.com/wp-content/uploads/2024/06/pexels-cornhole-scaled.jpg
END:VEVENT
BEGIN:VEVENT
DTSTART;TZID=UTC:20250129T073000
DTEND;TZID=UTC:20250129T080000
DTSTAMP:20260421T082506
CREATED:20250114T204554Z
LAST-MODIFIED:20251216T220909Z
UID:10038737-1738135800-1738137600@www.arabellahotelsedona.com
SUMMARY:Morning Meditation
DESCRIPTION:Join Meredith in our Elvis room for morning reflection & guided meditation featuring breathwork & other modalities.
URL:https://www.arabellahotelsedona.com/event/morning-meditations-3/2025-01-29/
ATTACH;FMTTYPE=image/png:https://www.arabellahotelsedona.com/wp-content/uploads/2025/01/Morning-e1753995270823.png
END:VEVENT
BEGIN:VEVENT
DTSTART;TZID=UTC:20250130T073000
DTEND;TZID=UTC:20250130T080000
DTSTAMP:20260421T082506
CREATED:20250114T204554Z
LAST-MODIFIED:20251216T220909Z
UID:10038738-1738222200-1738224000@www.arabellahotelsedona.com
SUMMARY:Morning Meditation
DESCRIPTION:Join Meredith in our Elvis room for morning reflection & guided meditation featuring breathwork & other modalities.
URL:https://www.arabellahotelsedona.com/event/morning-meditations-3/2025-01-30/
ATTACH;FMTTYPE=image/png:https://www.arabellahotelsedona.com/wp-content/uploads/2025/01/Morning-e1753995270823.png
END:VEVENT
BEGIN:VEVENT
DTSTART;TZID=UTC:20250131T073000
DTEND;TZID=UTC:20250131T080000
DTSTAMP:20260421T082506
CREATED:20250114T204554Z
LAST-MODIFIED:20251216T220909Z
UID:10038739-1738308600-1738310400@www.arabellahotelsedona.com
SUMMARY:Morning Meditation
DESCRIPTION:Join Meredith in our Elvis room for morning reflection & guided meditation featuring breathwork & other modalities.
URL:https://www.arabellahotelsedona.com/event/morning-meditations-3/2025-01-31/
ATTACH;FMTTYPE=image/png:https://www.arabellahotelsedona.com/wp-content/uploads/2025/01/Morning-e1753995270823.png
END:VEVENT
BEGIN:VEVENT
DTSTART;TZID=UTC:20250131T170000
DTEND;TZID=UTC:20250131T210000
DTSTAMP:20260421T082506
CREATED:20240621T163428Z
LAST-MODIFIED:20260324T200625Z
UID:10016141-1738342800-1738357200@www.arabellahotelsedona.com
SUMMARY:Medicinal Massage
DESCRIPTION:Join Jody for Therapeutic Massage featuring a variety of healing modalities including deep tissue\, myofascial release\, cupping & more. Cost: $2 per minute.
URL:https://www.arabellahotelsedona.com/event/medicinal-massage/2025-01-31/
ATTACH;FMTTYPE=image/jpeg:https://www.arabellahotelsedona.com/wp-content/uploads/2024/06/pexels-massage2-scaled.jpg
END:VEVENT
BEGIN:VEVENT
DTSTART;TZID=UTC:20250201T073000
DTEND;TZID=UTC:20250201T080000
DTSTAMP:20260421T082506
CREATED:20250114T204554Z
LAST-MODIFIED:20251216T220909Z
UID:10039605-1738395000-1738396800@www.arabellahotelsedona.com
SUMMARY:Morning Meditation
DESCRIPTION:Join Meredith in our Elvis room for morning reflection & guided meditation featuring breathwork & other modalities.
URL:https://www.arabellahotelsedona.com/event/morning-meditations-3/2025-02-01/
ATTACH;FMTTYPE=image/png:https://www.arabellahotelsedona.com/wp-content/uploads/2025/01/Morning-e1753995270823.png
END:VEVENT
BEGIN:VEVENT
DTSTART;TZID=UTC:20250202T140000
DTEND;TZID=UTC:20250202T180000
DTSTAMP:20260421T082506
CREATED:20250114T212154Z
LAST-MODIFIED:20260328T205848Z
UID:10019512-1738504800-1738519200@www.arabellahotelsedona.com
SUMMARY:Game Night
DESCRIPTION:Head out to the courtyard to play our collection of giant lawn games and Cornhole.
URL:https://www.arabellahotelsedona.com/event/game-night-3/2025-02-02/
ATTACH;FMTTYPE=image/jpeg:https://www.arabellahotelsedona.com/wp-content/uploads/2024/06/pexels-cornhole-scaled.jpg
END:VEVENT
BEGIN:VEVENT
DTSTART;TZID=UTC:20250203T140000
DTEND;TZID=UTC:20250203T180000
DTSTAMP:20260421T082506
CREATED:20250114T212154Z
LAST-MODIFIED:20260328T205848Z
UID:10019513-1738591200-1738605600@www.arabellahotelsedona.com
SUMMARY:Game Night
DESCRIPTION:Head out to the courtyard to play our collection of giant lawn games and Cornhole.
URL:https://www.arabellahotelsedona.com/event/game-night-3/2025-02-03/
ATTACH;FMTTYPE=image/jpeg:https://www.arabellahotelsedona.com/wp-content/uploads/2024/06/pexels-cornhole-scaled.jpg
END:VEVENT
BEGIN:VEVENT
DTSTART;TZID=UTC:20250205T073000
DTEND;TZID=UTC:20250205T080000
DTSTAMP:20260421T082506
CREATED:20250114T204554Z
LAST-MODIFIED:20251216T220909Z
UID:10038740-1738740600-1738742400@www.arabellahotelsedona.com
SUMMARY:Morning Meditation
DESCRIPTION:Join Meredith in our Elvis room for morning reflection & guided meditation featuring breathwork & other modalities.
URL:https://www.arabellahotelsedona.com/event/morning-meditations-3/2025-02-05/
ATTACH;FMTTYPE=image/png:https://www.arabellahotelsedona.com/wp-content/uploads/2025/01/Morning-e1753995270823.png
END:VEVENT
BEGIN:VEVENT
DTSTART;TZID=UTC:20250206T073000
DTEND;TZID=UTC:20250206T080000
DTSTAMP:20260421T082506
CREATED:20250114T204554Z
LAST-MODIFIED:20251216T220909Z
UID:10038741-1738827000-1738828800@www.arabellahotelsedona.com
SUMMARY:Morning Meditation
DESCRIPTION:Join Meredith in our Elvis room for morning reflection & guided meditation featuring breathwork & other modalities.
URL:https://www.arabellahotelsedona.com/event/morning-meditations-3/2025-02-06/
ATTACH;FMTTYPE=image/png:https://www.arabellahotelsedona.com/wp-content/uploads/2025/01/Morning-e1753995270823.png
END:VEVENT
BEGIN:VEVENT
DTSTART;TZID=UTC:20250207T073000
DTEND;TZID=UTC:20250207T080000
DTSTAMP:20260421T082506
CREATED:20250114T204554Z
LAST-MODIFIED:20251216T220909Z
UID:10038742-1738913400-1738915200@www.arabellahotelsedona.com
SUMMARY:Morning Meditation
DESCRIPTION:Join Meredith in our Elvis room for morning reflection & guided meditation featuring breathwork & other modalities.
URL:https://www.arabellahotelsedona.com/event/morning-meditations-3/2025-02-07/
ATTACH;FMTTYPE=image/png:https://www.arabellahotelsedona.com/wp-content/uploads/2025/01/Morning-e1753995270823.png
END:VEVENT
END:VCALENDAR