BEGIN:VCALENDAR
VERSION:2.0
PRODID:-//Arabella Sedona - ECPv6.15.20//NONSGML v1.0//EN
CALSCALE:GREGORIAN
METHOD:PUBLISH
X-ORIGINAL-URL:https://www.arabellahotelsedona.com
X-WR-CALDESC:Events for Arabella Sedona
REFRESH-INTERVAL;VALUE=DURATION:PT1H
X-Robots-Tag:noindex
X-PUBLISHED-TTL:PT1H
BEGIN:VTIMEZONE
TZID:UTC
BEGIN:STANDARD
TZOFFSETFROM:+0000
TZOFFSETTO:+0000
TZNAME:UTC
DTSTART:20230101T000000
END:STANDARD
END:VTIMEZONE
BEGIN:VEVENT
DTSTART;TZID=UTC:20240705T140000
DTEND;TZID=UTC:20240705T160000
DTSTAMP:20260425T154458
CREATED:20240621T163120Z
LAST-MODIFIED:20240621T163120Z
UID:10004442-1720188000-1720195200@www.arabellahotelsedona.com
SUMMARY:Paint & Sip
DESCRIPTION:Join Tessa in the Breakfast Room for a Sedona-inspired painting session. $25 includes canvas & beverage of your choice!
URL:https://www.arabellahotelsedona.com/event/paint-sip/2024-07-05/
ATTACH;FMTTYPE=image/png:https://www.arabellahotelsedona.com/wp-content/uploads/2024/06/sip-n-paint.png
END:VEVENT
END:VCALENDAR